BEGIN:VCALENDAR
VERSION:2.0
PRODID:-//Le Portel - ECPv6.15.18//NONSGML v1.0//EN
CALSCALE:GREGORIAN
METHOD:PUBLISH
X-WR-CALNAME:Le Portel
X-ORIGINAL-URL:http://www.ville-leportel.fr
X-WR-CALDESC:Évènements pour Le Portel
REFRESH-INTERVAL;VALUE=DURATION:PT1H
X-Robots-Tag:noindex
X-PUBLISHED-TTL:PT1H
BEGIN:VTIMEZONE
TZID:Europe/Paris
BEGIN:DAYLIGHT
TZOFFSETFROM:+0100
TZOFFSETTO:+0200
TZNAME:CEST
DTSTART:20240331T010000
END:DAYLIGHT
BEGIN:STANDARD
TZOFFSETFROM:+0200
TZOFFSETTO:+0100
TZNAME:CET
DTSTART:20241027T010000
END:STANDARD
BEGIN:DAYLIGHT
TZOFFSETFROM:+0100
TZOFFSETTO:+0200
TZNAME:CEST
DTSTART:20250330T010000
END:DAYLIGHT
BEGIN:STANDARD
TZOFFSETFROM:+0200
TZOFFSETTO:+0100
TZNAME:CET
DTSTART:20251026T010000
END:STANDARD
BEGIN:DAYLIGHT
TZOFFSETFROM:+0100
TZOFFSETTO:+0200
TZNAME:CEST
DTSTART:20260329T010000
END:DAYLIGHT
BEGIN:STANDARD
TZOFFSETFROM:+0200
TZOFFSETTO:+0100
TZNAME:CET
DTSTART:20261025T010000
END:STANDARD
END:VTIMEZONE
BEGIN:VEVENT
DTSTART;TZID=Europe/Paris:20251222T140000
DTEND;TZID=Europe/Paris:20251222T163000
DTSTAMP:20260424T213309
CREATED:20251119T154104Z
LAST-MODIFIED:20251119T154104Z
UID:15466-1766412000-1766421000@www.ville-leportel.fr
SUMMARY:Atelier des Guénels
DESCRIPTION:Apportez votre betterave et les accessoires pour décorer votre guénel. Gratuit\, sur inscription auprès du service Temps de l’Enfant 03.21.87.73.76. Les betteraves seront livrées devant la médiathèque le mercredi 17 décembre.
URL:http://www.ville-leportel.fr/event/atelier-des-guenels/
LOCATION:salle Maurice Chevalier
ATTACH;FMTTYPE=image/jpeg:http://www.ville-leportel.fr/wp-content/uploads/2025/11/aff-guenels-2025-copie-scaled.jpg
END:VEVENT
END:VCALENDAR