BEGIN:VCALENDAR
VERSION:2.0
PRODID:-//Le Portel - ECPv6.15.18//NONSGML v1.0//EN
CALSCALE:GREGORIAN
METHOD:PUBLISH
X-WR-CALNAME:Le Portel
X-ORIGINAL-URL:http://www.ville-leportel.fr
X-WR-CALDESC:Évènements pour Le Portel
REFRESH-INTERVAL;VALUE=DURATION:PT1H
X-Robots-Tag:noindex
X-PUBLISHED-TTL:PT1H
BEGIN:VTIMEZONE
TZID:Europe/Paris
BEGIN:DAYLIGHT
TZOFFSETFROM:+0100
TZOFFSETTO:+0200
TZNAME:CEST
DTSTART:20240331T010000
END:DAYLIGHT
BEGIN:STANDARD
TZOFFSETFROM:+0200
TZOFFSETTO:+0100
TZNAME:CET
DTSTART:20241027T010000
END:STANDARD
BEGIN:DAYLIGHT
TZOFFSETFROM:+0100
TZOFFSETTO:+0200
TZNAME:CEST
DTSTART:20250330T010000
END:DAYLIGHT
BEGIN:STANDARD
TZOFFSETFROM:+0200
TZOFFSETTO:+0100
TZNAME:CET
DTSTART:20251026T010000
END:STANDARD
BEGIN:DAYLIGHT
TZOFFSETFROM:+0100
TZOFFSETTO:+0200
TZNAME:CEST
DTSTART:20260329T010000
END:DAYLIGHT
BEGIN:STANDARD
TZOFFSETFROM:+0200
TZOFFSETTO:+0100
TZNAME:CET
DTSTART:20261025T010000
END:STANDARD
END:VTIMEZONE
BEGIN:VEVENT
DTSTART;TZID=Europe/Paris:20251222T100000
DTEND;TZID=Europe/Paris:20251222T120000
DTSTAMP:20260424T201739
CREATED:20251119T132757Z
LAST-MODIFIED:20251119T132757Z
UID:15458-1766397600-1766404800@www.ville-leportel.fr
SUMMARY:Atelier des lutins bricoleurs
DESCRIPTION:Enfile ton bonnet magique et rejoins nous pour créer de magnifiques décorations de Noel sous une pluie de paillettes. Place à l’imagination ! Sur inscription à la médiathèque au 03.91.90.14.00 \nDe 10h à 12h à la médiathèque.
URL:http://www.ville-leportel.fr/event/atelier-des-lutins-bricoleurs/
LOCATION:Médiathèque les jardins du savoir
ATTACH;FMTTYPE=image/png:http://www.ville-leportel.fr/wp-content/uploads/2025/11/Capture-decran-2025-11-19-142735.png
END:VEVENT
END:VCALENDAR