BEGIN:VCALENDAR
VERSION:2.0
PRODID:-//Le Portel - ECPv6.15.18//NONSGML v1.0//EN
CALSCALE:GREGORIAN
METHOD:PUBLISH
X-WR-CALNAME:Le Portel
X-ORIGINAL-URL:http://www.ville-leportel.fr
X-WR-CALDESC:Évènements pour Le Portel
REFRESH-INTERVAL;VALUE=DURATION:PT1H
X-Robots-Tag:noindex
X-PUBLISHED-TTL:PT1H
BEGIN:VTIMEZONE
TZID:Europe/Paris
BEGIN:DAYLIGHT
TZOFFSETFROM:+0100
TZOFFSETTO:+0200
TZNAME:CEST
DTSTART:20240331T010000
END:DAYLIGHT
BEGIN:STANDARD
TZOFFSETFROM:+0200
TZOFFSETTO:+0100
TZNAME:CET
DTSTART:20241027T010000
END:STANDARD
BEGIN:DAYLIGHT
TZOFFSETFROM:+0100
TZOFFSETTO:+0200
TZNAME:CEST
DTSTART:20250330T010000
END:DAYLIGHT
BEGIN:STANDARD
TZOFFSETFROM:+0200
TZOFFSETTO:+0100
TZNAME:CET
DTSTART:20251026T010000
END:STANDARD
BEGIN:DAYLIGHT
TZOFFSETFROM:+0100
TZOFFSETTO:+0200
TZNAME:CEST
DTSTART:20260329T010000
END:DAYLIGHT
BEGIN:STANDARD
TZOFFSETFROM:+0200
TZOFFSETTO:+0100
TZNAME:CET
DTSTART:20261025T010000
END:STANDARD
END:VTIMEZONE
BEGIN:VEVENT
DTSTART;TZID=Europe/Paris:20251220T100000
DTEND;TZID=Europe/Paris:20251220T120000
DTSTAMP:20260424T110902
CREATED:20251118T150801Z
LAST-MODIFIED:20251118T150801Z
UID:15439-1766224800-1766232000@www.ville-leportel.fr
SUMMARY:Atelier des souhaits
DESCRIPTION:Un lieu ou la magie de Noel brille à chaque coin. A la lueur des guirlandes et des paillettes dorées\, écris ta plus belle lettre au Père Noel puis dépose-la dans la boîte enchantée pour qu’elle s’envole jusqu’au Pôle Nord; sur inscription à la médiathèque au 03.91.90.14.00
URL:http://www.ville-leportel.fr/event/atelier-des-souhaits/
LOCATION:Médiathèque les jardins du savoir
ATTACH;FMTTYPE=image/jpeg:http://www.ville-leportel.fr/wp-content/uploads/2025/11/enveloppe-de-papier-vierge-et-decoration-de-noel-sur-l-espace-de-copie-de-fond-en-bois-scaled.jpg
END:VEVENT
END:VCALENDAR