BEGIN:VCALENDAR
VERSION:2.0
PRODID:-//Le Portel - ECPv6.15.18//NONSGML v1.0//EN
CALSCALE:GREGORIAN
METHOD:PUBLISH
X-WR-CALNAME:Le Portel
X-ORIGINAL-URL:http://www.ville-leportel.fr
X-WR-CALDESC:Évènements pour Le Portel
REFRESH-INTERVAL;VALUE=DURATION:PT1H
X-Robots-Tag:noindex
X-PUBLISHED-TTL:PT1H
BEGIN:VTIMEZONE
TZID:Europe/Paris
BEGIN:DAYLIGHT
TZOFFSETFROM:+0100
TZOFFSETTO:+0200
TZNAME:CEST
DTSTART:20220327T010000
END:DAYLIGHT
BEGIN:STANDARD
TZOFFSETFROM:+0200
TZOFFSETTO:+0100
TZNAME:CET
DTSTART:20221030T010000
END:STANDARD
BEGIN:DAYLIGHT
TZOFFSETFROM:+0100
TZOFFSETTO:+0200
TZNAME:CEST
DTSTART:20230326T010000
END:DAYLIGHT
BEGIN:STANDARD
TZOFFSETFROM:+0200
TZOFFSETTO:+0100
TZNAME:CET
DTSTART:20231029T010000
END:STANDARD
BEGIN:DAYLIGHT
TZOFFSETFROM:+0100
TZOFFSETTO:+0200
TZNAME:CEST
DTSTART:20240331T010000
END:DAYLIGHT
BEGIN:STANDARD
TZOFFSETFROM:+0200
TZOFFSETTO:+0100
TZNAME:CET
DTSTART:20241027T010000
END:STANDARD
END:VTIMEZONE
BEGIN:VEVENT
DTSTART;TZID=Europe/Paris:20230621T143000
DTEND;TZID=Europe/Paris:20230621T163000
DTSTAMP:20260425T031918
CREATED:20230515T102916Z
LAST-MODIFIED:20230515T102916Z
UID:10712-1687357800-1687365000@www.ville-leportel.fr
SUMMARY:Atelier d’initiation au système SMDSM
DESCRIPTION:Organisé par le musée Argos SMDSM (système mondial de sécurité en mer)\nExplication du matériel de sécurité d’un navire\, comment envoyer un mayday\, un PAN PAN\, comment se servir d’une balise SART et d’une balise RLS\nDe 14h30 à 16h30 au musée Argos\nTarif : 4 € (Nombre de places limité)\nRéservations au 06 11 77 69 78.
URL:http://www.ville-leportel.fr/event/atelier-dinitiation-au-systeme-smdsm/
ATTACH;FMTTYPE=image/jpeg:http://www.ville-leportel.fr/wp-content/uploads/2023/05/pilot-boat-motion-sunny-day-norway-scaled.jpg
END:VEVENT
END:VCALENDAR