BEGIN:VCALENDAR
VERSION:2.0
PRODID:-//Le Portel - ECPv6.15.18//NONSGML v1.0//EN
CALSCALE:GREGORIAN
METHOD:PUBLISH
X-WR-CALNAME:Le Portel
X-ORIGINAL-URL:http://www.ville-leportel.fr
X-WR-CALDESC:Évènements pour Le Portel
REFRESH-INTERVAL;VALUE=DURATION:PT1H
X-Robots-Tag:noindex
X-PUBLISHED-TTL:PT1H
BEGIN:VTIMEZONE
TZID:Europe/Paris
BEGIN:DAYLIGHT
TZOFFSETFROM:+0100
TZOFFSETTO:+0200
TZNAME:CEST
DTSTART:20180325T010000
END:DAYLIGHT
BEGIN:STANDARD
TZOFFSETFROM:+0200
TZOFFSETTO:+0100
TZNAME:CET
DTSTART:20181028T010000
END:STANDARD
BEGIN:DAYLIGHT
TZOFFSETFROM:+0100
TZOFFSETTO:+0200
TZNAME:CEST
DTSTART:20190331T010000
END:DAYLIGHT
BEGIN:STANDARD
TZOFFSETFROM:+0200
TZOFFSETTO:+0100
TZNAME:CET
DTSTART:20191027T010000
END:STANDARD
BEGIN:DAYLIGHT
TZOFFSETFROM:+0100
TZOFFSETTO:+0200
TZNAME:CEST
DTSTART:20200329T010000
END:DAYLIGHT
BEGIN:STANDARD
TZOFFSETFROM:+0200
TZOFFSETTO:+0100
TZNAME:CET
DTSTART:20201025T010000
END:STANDARD
END:VTIMEZONE
BEGIN:VEVENT
DTSTART;TZID=Europe/Paris:20190717T100000
DTEND;TZID=Europe/Paris:20190717T120000
DTSTAMP:20260424T084304
CREATED:20190402T150929Z
LAST-MODIFIED:20190404T083207Z
UID:4173-1563357600-1563364800@www.ville-leportel.fr
SUMMARY:Découverte animée Visite d’Alprech
DESCRIPTION:Découverte animée Visite d’Alprech \nRDV 10h au Fort d’Alprech \n \nGratuit \n 
URL:http://www.ville-leportel.fr/event/decouverte-animee-visite-dalprech-5/
LOCATION:Parking du fort d’Alprech rue du Cap
ATTACH;FMTTYPE=image/jpeg:http://www.ville-leportel.fr/wp-content/uploads/2019/04/DSC_2677.jpg
END:VEVENT
END:VCALENDAR