BEGIN:VCALENDAR
VERSION:2.0
PRODID:-//Le Portel - ECPv6.15.18//NONSGML v1.0//EN
CALSCALE:GREGORIAN
METHOD:PUBLISH
X-WR-CALNAME:Le Portel
X-ORIGINAL-URL:http://www.ville-leportel.fr
X-WR-CALDESC:Évènements pour Le Portel
REFRESH-INTERVAL;VALUE=DURATION:PT1H
X-Robots-Tag:noindex
X-PUBLISHED-TTL:PT1H
BEGIN:VTIMEZONE
TZID:Europe/Paris
BEGIN:DAYLIGHT
TZOFFSETFROM:+0100
TZOFFSETTO:+0200
TZNAME:CEST
DTSTART:20240331T010000
END:DAYLIGHT
BEGIN:STANDARD
TZOFFSETFROM:+0200
TZOFFSETTO:+0100
TZNAME:CET
DTSTART:20241027T010000
END:STANDARD
BEGIN:DAYLIGHT
TZOFFSETFROM:+0100
TZOFFSETTO:+0200
TZNAME:CEST
DTSTART:20250330T010000
END:DAYLIGHT
BEGIN:STANDARD
TZOFFSETFROM:+0200
TZOFFSETTO:+0100
TZNAME:CET
DTSTART:20251026T010000
END:STANDARD
BEGIN:DAYLIGHT
TZOFFSETFROM:+0100
TZOFFSETTO:+0200
TZNAME:CEST
DTSTART:20260329T010000
END:DAYLIGHT
BEGIN:STANDARD
TZOFFSETFROM:+0200
TZOFFSETTO:+0100
TZNAME:CET
DTSTART:20261025T010000
END:STANDARD
END:VTIMEZONE
BEGIN:VEVENT
DTSTART;TZID=Europe/Paris:20251222T173000
DTEND;TZID=Europe/Paris:20251222T193000
DTSTAMP:20260424T231622
CREATED:20251119T160710Z
LAST-MODIFIED:20251119T160710Z
UID:15469-1766424600-1766431800@www.ville-leportel.fr
SUMMARY:Le dernier rêve avant Noël
DESCRIPTION:Une soirée féerique ou jongleurs\, échassiers et carrosse lumineux ouvrent la voie au Père Noel\, avec la compagnie Les Zincontournables. Déambulation au départ de la Maison de Quartier à Henriville à 17h30 jusqu’au jardin Place de l’Eglise.
URL:http://www.ville-leportel.fr/event/le-dernier-reve-avant-noel/
LOCATION:Maison de quartier JP Maurouard
ATTACH;FMTTYPE=image/png:http://www.ville-leportel.fr/wp-content/uploads/2025/11/Capture-decran-2025-11-19-170652.png
END:VEVENT
END:VCALENDAR