BEGIN:VCALENDAR
VERSION:2.0
PRODID:-//Le Portel - ECPv6.15.18//NONSGML v1.0//EN
CALSCALE:GREGORIAN
METHOD:PUBLISH
X-WR-CALNAME:Le Portel
X-ORIGINAL-URL:http://www.ville-leportel.fr
X-WR-CALDESC:Évènements pour Le Portel
REFRESH-INTERVAL;VALUE=DURATION:PT1H
X-Robots-Tag:noindex
X-PUBLISHED-TTL:PT1H
BEGIN:VTIMEZONE
TZID:Europe/Paris
BEGIN:DAYLIGHT
TZOFFSETFROM:+0100
TZOFFSETTO:+0200
TZNAME:CEST
DTSTART:20240331T010000
END:DAYLIGHT
BEGIN:STANDARD
TZOFFSETFROM:+0200
TZOFFSETTO:+0100
TZNAME:CET
DTSTART:20241027T010000
END:STANDARD
BEGIN:DAYLIGHT
TZOFFSETFROM:+0100
TZOFFSETTO:+0200
TZNAME:CEST
DTSTART:20250330T010000
END:DAYLIGHT
BEGIN:STANDARD
TZOFFSETFROM:+0200
TZOFFSETTO:+0100
TZNAME:CET
DTSTART:20251026T010000
END:STANDARD
BEGIN:DAYLIGHT
TZOFFSETFROM:+0100
TZOFFSETTO:+0200
TZNAME:CEST
DTSTART:20260329T010000
END:DAYLIGHT
BEGIN:STANDARD
TZOFFSETFROM:+0200
TZOFFSETTO:+0100
TZNAME:CET
DTSTART:20261025T010000
END:STANDARD
END:VTIMEZONE
BEGIN:VEVENT
DTSTART;TZID=Europe/Paris:20251130T093000
DTEND;TZID=Europe/Paris:20251130T110000
DTSTAMP:20260425T051958
CREATED:20251107T140901Z
LAST-MODIFIED:20251107T140901Z
UID:15365-1764495000-1764500400@www.ville-leportel.fr
SUMMARY:Marche familiale au profit du téléthon
DESCRIPTION:Organisée par la coulée verte\, rendez-vous sur le parking du chaudron\, à 9h30.\nUn café vous sera servi à l’accueil.
URL:http://www.ville-leportel.fr/event/marche-familiale-au-profit-du-telethon-2/
ATTACH;FMTTYPE=image/png:http://www.ville-leportel.fr/wp-content/uploads/2025/11/Gemini_Generated_Image_rixwhwrixwhwrixw.png
END:VEVENT
END:VCALENDAR