BEGIN:VCALENDAR
VERSION:2.0
PRODID:-//Le Portel - ECPv6.15.18//NONSGML v1.0//EN
CALSCALE:GREGORIAN
METHOD:PUBLISH
X-WR-CALNAME:Le Portel
X-ORIGINAL-URL:http://www.ville-leportel.fr
X-WR-CALDESC:Évènements pour Le Portel
REFRESH-INTERVAL;VALUE=DURATION:PT1H
X-Robots-Tag:noindex
X-PUBLISHED-TTL:PT1H
BEGIN:VTIMEZONE
TZID:Europe/Paris
BEGIN:DAYLIGHT
TZOFFSETFROM:+0100
TZOFFSETTO:+0200
TZNAME:CEST
DTSTART:20230326T010000
END:DAYLIGHT
BEGIN:STANDARD
TZOFFSETFROM:+0200
TZOFFSETTO:+0100
TZNAME:CET
DTSTART:20231029T010000
END:STANDARD
BEGIN:DAYLIGHT
TZOFFSETFROM:+0100
TZOFFSETTO:+0200
TZNAME:CEST
DTSTART:20240331T010000
END:DAYLIGHT
BEGIN:STANDARD
TZOFFSETFROM:+0200
TZOFFSETTO:+0100
TZNAME:CET
DTSTART:20241027T010000
END:STANDARD
BEGIN:DAYLIGHT
TZOFFSETFROM:+0100
TZOFFSETTO:+0200
TZNAME:CEST
DTSTART:20250330T010000
END:DAYLIGHT
BEGIN:STANDARD
TZOFFSETFROM:+0200
TZOFFSETTO:+0100
TZNAME:CET
DTSTART:20251026T010000
END:STANDARD
END:VTIMEZONE
BEGIN:VEVENT
DTSTART;TZID=Europe/Paris:20241006T083000
DTEND;TZID=Europe/Paris:20241006T100000
DTSTAMP:20260424T023829
CREATED:20241003T074720Z
LAST-MODIFIED:20241003T074720Z
UID:13040-1728203400-1728208800@www.ville-leportel.fr
SUMMARY:Marche rose
DESCRIPTION:Marche rose\nDans le cadre d’Octobre Rose\nA 9h30 à l’entonnoir\nProjection de poudre rose – prévoir un T-shirt blanc ou rose\nDons libres
URL:http://www.ville-leportel.fr/event/marche-rose-2/
ATTACH;FMTTYPE=image/jpeg:http://www.ville-leportel.fr/wp-content/uploads/2024/10/marche-rose-2024-copie-scaled.jpg
END:VEVENT
END:VCALENDAR