BEGIN:VCALENDAR
VERSION:2.0
PRODID:-//Le Portel - ECPv6.15.18//NONSGML v1.0//EN
CALSCALE:GREGORIAN
METHOD:PUBLISH
X-WR-CALNAME:Le Portel
X-ORIGINAL-URL:http://www.ville-leportel.fr
X-WR-CALDESC:Évènements pour Le Portel
REFRESH-INTERVAL;VALUE=DURATION:PT1H
X-Robots-Tag:noindex
X-PUBLISHED-TTL:PT1H
BEGIN:VTIMEZONE
TZID:Europe/Paris
BEGIN:DAYLIGHT
TZOFFSETFROM:+0100
TZOFFSETTO:+0200
TZNAME:CEST
DTSTART:20240331T010000
END:DAYLIGHT
BEGIN:STANDARD
TZOFFSETFROM:+0200
TZOFFSETTO:+0100
TZNAME:CET
DTSTART:20241027T010000
END:STANDARD
BEGIN:DAYLIGHT
TZOFFSETFROM:+0100
TZOFFSETTO:+0200
TZNAME:CEST
DTSTART:20250330T010000
END:DAYLIGHT
BEGIN:STANDARD
TZOFFSETFROM:+0200
TZOFFSETTO:+0100
TZNAME:CET
DTSTART:20251026T010000
END:STANDARD
BEGIN:DAYLIGHT
TZOFFSETFROM:+0100
TZOFFSETTO:+0200
TZNAME:CEST
DTSTART:20260329T010000
END:DAYLIGHT
BEGIN:STANDARD
TZOFFSETFROM:+0200
TZOFFSETTO:+0100
TZNAME:CET
DTSTART:20261025T010000
END:STANDARD
END:VTIMEZONE
BEGIN:VEVENT
DTSTART;TZID=Europe/Paris:20251207T110000
DTEND;TZID=Europe/Paris:20251207T180000
DTSTAMP:20260424T110720
CREATED:20251118T111041Z
LAST-MODIFIED:20251118T111041Z
UID:15421-1765105200-1765130400@www.ville-leportel.fr
SUMMARY:Saint-Nicolas à Henriville
DESCRIPTION:Marché de St-Nicolas organisé par l’ACLH et les Gaulois Portelois salle Jean-Pierre Maurouard de 11h à 18h\, suivi d’un défilé vers 17h dans le quartier.
URL:http://www.ville-leportel.fr/event/saint-nicolas-a-henriville-3/
LOCATION:Maison de quartier JP Maurouard
ATTACH;FMTTYPE=image/png:http://www.ville-leportel.fr/wp-content/uploads/2025/11/ChatGPT-Image-21-oct.-2025-15_12_53.png
END:VEVENT
END:VCALENDAR