BEGIN:VCALENDAR
VERSION:2.0
PRODID:-//Le Portel - ECPv6.15.18//NONSGML v1.0//EN
CALSCALE:GREGORIAN
METHOD:PUBLISH
X-WR-CALNAME:Le Portel
X-ORIGINAL-URL:https://www.ville-leportel.fr
X-WR-CALDESC:Évènements pour Le Portel
REFRESH-INTERVAL;VALUE=DURATION:PT1H
X-Robots-Tag:noindex
X-PUBLISHED-TTL:PT1H
BEGIN:VTIMEZONE
TZID:Europe/Paris
BEGIN:DAYLIGHT
TZOFFSETFROM:+0100
TZOFFSETTO:+0200
TZNAME:CEST
DTSTART:20240331T010000
END:DAYLIGHT
BEGIN:STANDARD
TZOFFSETFROM:+0200
TZOFFSETTO:+0100
TZNAME:CET
DTSTART:20241027T010000
END:STANDARD
BEGIN:DAYLIGHT
TZOFFSETFROM:+0100
TZOFFSETTO:+0200
TZNAME:CEST
DTSTART:20250330T010000
END:DAYLIGHT
BEGIN:STANDARD
TZOFFSETFROM:+0200
TZOFFSETTO:+0100
TZNAME:CET
DTSTART:20251026T010000
END:STANDARD
BEGIN:DAYLIGHT
TZOFFSETFROM:+0100
TZOFFSETTO:+0200
TZNAME:CEST
DTSTART:20260329T010000
END:DAYLIGHT
BEGIN:STANDARD
TZOFFSETFROM:+0200
TZOFFSETTO:+0100
TZNAME:CET
DTSTART:20261025T010000
END:STANDARD
END:VTIMEZONE
BEGIN:VEVENT
DTSTART;TZID=Europe/Paris:20250511T080000
DTEND;TZID=Europe/Paris:20250511T180000
DTSTAMP:20260424T201254
CREATED:20250423T143415Z
LAST-MODIFIED:20250423T143415Z
UID:13930-1746950400-1746986400@www.ville-leportel.fr
SUMMARY:Braderie - Le Portel anim'
DESCRIPTION: Le Portel Anim’ vous donne rendez-vous pour une braderie dans les rues : Lucie Aubrac\, Charles Péguy\, Roland Dorgelès\, Jules Renard et François Mauriac. \n Tarifs exposants : 12 € les 3 mètres.️ Petite restauration sur place pour reprendre des forces entre deux stands. \n Réservations ouvertes depuis le 20 mars auprès de Madame Sauvage à la Maison de Projets résidence Giono (les mardis et jeudis de 14h à 17h30). Infos : 03.21.33.87.28 / 06.48.69.00.90
URL:https://www.ville-leportel.fr/event/braderie-le-portel-anim/
LOCATION:Quartier Des Résidences\, 5 Rue du Général San Martin\, 62480\, 62480\, France
ATTACH;FMTTYPE=image/jpeg:https://www.ville-leportel.fr/wp-content/uploads/2025/04/braderie-du-11-mai-copie-scaled.jpg
END:VEVENT
END:VCALENDAR