BEGIN:VCALENDAR
VERSION:2.0
PRODID:-//Le Portel - ECPv6.15.18//NONSGML v1.0//EN
CALSCALE:GREGORIAN
METHOD:PUBLISH
X-WR-CALNAME:Le Portel
X-ORIGINAL-URL:https://www.ville-leportel.fr
X-WR-CALDESC:Évènements pour Le Portel
REFRESH-INTERVAL;VALUE=DURATION:PT1H
X-Robots-Tag:noindex
X-PUBLISHED-TTL:PT1H
BEGIN:VTIMEZONE
TZID:Europe/Paris
BEGIN:DAYLIGHT
TZOFFSETFROM:+0100
TZOFFSETTO:+0200
TZNAME:CEST
DTSTART:20240331T010000
END:DAYLIGHT
BEGIN:STANDARD
TZOFFSETFROM:+0200
TZOFFSETTO:+0100
TZNAME:CET
DTSTART:20241027T010000
END:STANDARD
BEGIN:DAYLIGHT
TZOFFSETFROM:+0100
TZOFFSETTO:+0200
TZNAME:CEST
DTSTART:20250330T010000
END:DAYLIGHT
BEGIN:STANDARD
TZOFFSETFROM:+0200
TZOFFSETTO:+0100
TZNAME:CET
DTSTART:20251026T010000
END:STANDARD
BEGIN:DAYLIGHT
TZOFFSETFROM:+0100
TZOFFSETTO:+0200
TZNAME:CEST
DTSTART:20260329T010000
END:DAYLIGHT
BEGIN:STANDARD
TZOFFSETFROM:+0200
TZOFFSETTO:+0100
TZNAME:CET
DTSTART:20261025T010000
END:STANDARD
END:VTIMEZONE
BEGIN:VEVENT
DTSTART;TZID=Europe/Paris:20250504T150000
DTEND;TZID=Europe/Paris:20250504T170000
DTSTAMP:20260422T112509
CREATED:20250423T084250Z
LAST-MODIFIED:20250423T084250Z
UID:13903-1746370800-1746378000@www.ville-leportel.fr
SUMMARY:Concert de la musicale porteloise
DESCRIPTION:Un concert unique pour revivre les génériques cultes qui ont marqué vos soirées ! \nLa Musicale Porteloise vous embarque dans un véritable voyage musical au cœur des séries télévisées les plus emblématiques ! ✨ \n Des arrangements originaux\, une ambiance 100 % nostalgie et une dose de bonne humeur garantie ! \n Entrée libre – Tous publics – Ambiance familiale assurée ! \n Venez nombreux fredonner vos musiques préférées\, applaudir nos musiciens passionnés\, et (re)découvrir la magie des séries… en live !
URL:https://www.ville-leportel.fr/event/concert-de-la-musicale-porteloise-3/
LOCATION:Salle Yves montand\, Avenue de Béthune\, Le Portel\, 62480\, France
ATTACH;FMTTYPE=image/jpeg:https://www.ville-leportel.fr/wp-content/uploads/2025/04/250504-Affiche.jpg
END:VEVENT
END:VCALENDAR