BEGIN:VCALENDAR
VERSION:2.0
PRODID:-//Le Portel - ECPv6.15.18//NONSGML v1.0//EN
CALSCALE:GREGORIAN
METHOD:PUBLISH
X-WR-CALNAME:Le Portel
X-ORIGINAL-URL:https://www.ville-leportel.fr
X-WR-CALDESC:Évènements pour Le Portel
REFRESH-INTERVAL;VALUE=DURATION:PT1H
X-Robots-Tag:noindex
X-PUBLISHED-TTL:PT1H
BEGIN:VTIMEZONE
TZID:Europe/Paris
BEGIN:DAYLIGHT
TZOFFSETFROM:+0100
TZOFFSETTO:+0200
TZNAME:CEST
DTSTART:20220327T010000
END:DAYLIGHT
BEGIN:STANDARD
TZOFFSETFROM:+0200
TZOFFSETTO:+0100
TZNAME:CET
DTSTART:20221030T010000
END:STANDARD
BEGIN:DAYLIGHT
TZOFFSETFROM:+0100
TZOFFSETTO:+0200
TZNAME:CEST
DTSTART:20230326T010000
END:DAYLIGHT
BEGIN:STANDARD
TZOFFSETFROM:+0200
TZOFFSETTO:+0100
TZNAME:CET
DTSTART:20231029T010000
END:STANDARD
BEGIN:DAYLIGHT
TZOFFSETFROM:+0100
TZOFFSETTO:+0200
TZNAME:CEST
DTSTART:20240331T010000
END:DAYLIGHT
BEGIN:STANDARD
TZOFFSETFROM:+0200
TZOFFSETTO:+0100
TZNAME:CET
DTSTART:20241027T010000
END:STANDARD
END:VTIMEZONE
BEGIN:VEVENT
DTSTART;TZID=Europe/Paris:20230624T203000
DTEND;TZID=Europe/Paris:20230624T233000
DTSTAMP:20260424T150909
CREATED:20230515T114715Z
LAST-MODIFIED:20230515T114715Z
UID:10726-1687638600-1687649400@www.ville-leportel.fr
SUMMARY:Concert intégral de Yanns
DESCRIPTION:Les organisations insolites en partenariat avec la ville du Portel vous proposent un concert exceptionnel de Yanns le samedi 24 juin à 20h30 au Chaudron.\nLa 1ère partie sera assurée par DJ MIX.\nBilletterie en ligne sur : les-insolites.fr | billetreduc.com | fnacspectacles.com | ticketmaster.fr |à la médiathèque les jardins du savoir
URL:https://www.ville-leportel.fr/event/concert-integral-de-yanns/
ATTACH;FMTTYPE=image/jpeg:https://www.ville-leportel.fr/wp-content/uploads/2023/05/yanns-au-portel-billetterie.jpg
END:VEVENT
END:VCALENDAR