BEGIN:VCALENDAR
VERSION:2.0
PRODID:-//Le Portel - ECPv6.15.18//NONSGML v1.0//EN
CALSCALE:GREGORIAN
METHOD:PUBLISH
X-WR-CALNAME:Le Portel
X-ORIGINAL-URL:https://www.ville-leportel.fr
X-WR-CALDESC:Évènements pour Le Portel
REFRESH-INTERVAL;VALUE=DURATION:PT1H
X-Robots-Tag:noindex
X-PUBLISHED-TTL:PT1H
BEGIN:VTIMEZONE
TZID:Europe/Paris
BEGIN:DAYLIGHT
TZOFFSETFROM:+0100
TZOFFSETTO:+0200
TZNAME:CEST
DTSTART:20240331T010000
END:DAYLIGHT
BEGIN:STANDARD
TZOFFSETFROM:+0200
TZOFFSETTO:+0100
TZNAME:CET
DTSTART:20241027T010000
END:STANDARD
BEGIN:DAYLIGHT
TZOFFSETFROM:+0100
TZOFFSETTO:+0200
TZNAME:CEST
DTSTART:20250330T010000
END:DAYLIGHT
BEGIN:STANDARD
TZOFFSETFROM:+0200
TZOFFSETTO:+0100
TZNAME:CET
DTSTART:20251026T010000
END:STANDARD
BEGIN:DAYLIGHT
TZOFFSETFROM:+0100
TZOFFSETTO:+0200
TZNAME:CEST
DTSTART:20260329T010000
END:DAYLIGHT
BEGIN:STANDARD
TZOFFSETFROM:+0200
TZOFFSETTO:+0100
TZNAME:CET
DTSTART:20261025T010000
END:STANDARD
END:VTIMEZONE
BEGIN:VEVENT
DTSTART;TZID=Europe/Paris:20250503T160000
DTEND;TZID=Europe/Paris:20250503T220000
DTSTAMP:20260422T074438
CREATED:20250422T150018Z
LAST-MODIFIED:20250422T150018Z
UID:13889-1746288000-1746309600@www.ville-leportel.fr
SUMMARY:Concours de danse - Flowers Dance
DESCRIPTION:Concours de danse – 2e édition ! Flowers Dance – Duo & Groupe  Samedi 3 mai à partir de 16h Au Chaudron – Le PortelLe spectacle s’annonce exceptionnel avec un jury de prestige composé de Yann-Alrick Mortreuil et Jordan Mouillerac\, danseurs professionnels reconnus du grand public  Vous êtes prêts à faire vibrer la scène ? 15€ de participation par groupe 3€ pour les spectateurs Petite restauration sur placepour réserver : https://l.facebook.com/l.php…]-R&c[0]=AT3AOnGqUq3YZ6CjHCitgLoJ3D2dW9QeUbqT1IA5hTNkj5tAiVnjtVwnajI7q2tjTrLjNmbXmsd9MAU-T4keMRErsSIOTUPYtVSx2VuoYpKMqIDTWeRI2hYnPaaoS3hj5M6TWojpZiUd8acxFt0TNZATvi4cJDcyIZ4XMS8Rn4ZjYn6gpWXaFe0wtR_fk13syg Ambiance garantie\, performances à couper le souffle et émotions au rendez-vous… Venez encourager vos danseurs préférés !
URL:https://www.ville-leportel.fr/event/concours-de-danse-flowers-dance/
LOCATION:au Chaudron
ATTACH;FMTTYPE=image/jpeg:https://www.ville-leportel.fr/wp-content/uploads/2025/04/concours-de-danse-03.05-1.jpg
END:VEVENT
END:VCALENDAR