BEGIN:VCALENDAR
VERSION:2.0
PRODID:-//Le Portel - ECPv6.15.18//NONSGML v1.0//EN
CALSCALE:GREGORIAN
METHOD:PUBLISH
X-WR-CALNAME:Le Portel
X-ORIGINAL-URL:https://www.ville-leportel.fr
X-WR-CALDESC:Évènements pour Le Portel
REFRESH-INTERVAL;VALUE=DURATION:PT1H
X-Robots-Tag:noindex
X-PUBLISHED-TTL:PT1H
BEGIN:VTIMEZONE
TZID:Europe/Paris
BEGIN:DAYLIGHT
TZOFFSETFROM:+0100
TZOFFSETTO:+0200
TZNAME:CEST
DTSTART:20240331T010000
END:DAYLIGHT
BEGIN:STANDARD
TZOFFSETFROM:+0200
TZOFFSETTO:+0100
TZNAME:CET
DTSTART:20241027T010000
END:STANDARD
BEGIN:DAYLIGHT
TZOFFSETFROM:+0100
TZOFFSETTO:+0200
TZNAME:CEST
DTSTART:20250330T010000
END:DAYLIGHT
BEGIN:STANDARD
TZOFFSETFROM:+0200
TZOFFSETTO:+0100
TZNAME:CET
DTSTART:20251026T010000
END:STANDARD
BEGIN:DAYLIGHT
TZOFFSETFROM:+0100
TZOFFSETTO:+0200
TZNAME:CEST
DTSTART:20260329T010000
END:DAYLIGHT
BEGIN:STANDARD
TZOFFSETFROM:+0200
TZOFFSETTO:+0100
TZNAME:CET
DTSTART:20261025T010000
END:STANDARD
END:VTIMEZONE
BEGIN:VEVENT
DTSTART;VALUE=DATE:20250506
DTEND;VALUE=DATE:20250901
DTSTAMP:20260424T115556
CREATED:20250506T082040Z
LAST-MODIFIED:20250506T082040Z
UID:14088-1746489600-1756684799@www.ville-leportel.fr
SUMMARY:Exposition "1836 – Le Portel\, les deux églises – 1955"
DESCRIPTION:Tous les mardis et vendredis matin\, de 9h à 12h\, jusqu’à la fin août\,\n\n\nà l’église Saint-Pierre Saint-Paul.
URL:https://www.ville-leportel.fr/event/exposition-1836-le-portel-les-deux-eglises-1955/
LOCATION:Eglise Saint Pierre Saint Paul
ATTACH;FMTTYPE=image/jpeg:https://www.ville-leportel.fr/wp-content/uploads/2025/05/expo-les-2-eglises-copie-scaled.jpg
END:VEVENT
END:VCALENDAR