BEGIN:VCALENDAR
VERSION:2.0
PRODID:-//Le Portel - ECPv6.15.18//NONSGML v1.0//EN
CALSCALE:GREGORIAN
METHOD:PUBLISH
X-WR-CALNAME:Le Portel
X-ORIGINAL-URL:https://www.ville-leportel.fr
X-WR-CALDESC:Évènements pour Le Portel
REFRESH-INTERVAL;VALUE=DURATION:PT1H
X-Robots-Tag:noindex
X-PUBLISHED-TTL:PT1H
BEGIN:VTIMEZONE
TZID:Europe/Paris
BEGIN:DAYLIGHT
TZOFFSETFROM:+0100
TZOFFSETTO:+0200
TZNAME:CEST
DTSTART:20240331T010000
END:DAYLIGHT
BEGIN:STANDARD
TZOFFSETFROM:+0200
TZOFFSETTO:+0100
TZNAME:CET
DTSTART:20241027T010000
END:STANDARD
BEGIN:DAYLIGHT
TZOFFSETFROM:+0100
TZOFFSETTO:+0200
TZNAME:CEST
DTSTART:20250330T010000
END:DAYLIGHT
BEGIN:STANDARD
TZOFFSETFROM:+0200
TZOFFSETTO:+0100
TZNAME:CET
DTSTART:20251026T010000
END:STANDARD
BEGIN:DAYLIGHT
TZOFFSETFROM:+0100
TZOFFSETTO:+0200
TZNAME:CEST
DTSTART:20260329T010000
END:DAYLIGHT
BEGIN:STANDARD
TZOFFSETFROM:+0200
TZOFFSETTO:+0100
TZNAME:CET
DTSTART:20261025T010000
END:STANDARD
END:VTIMEZONE
BEGIN:VEVENT
DTSTART;TZID=Europe/Paris:20250419T140000
DTEND;TZID=Europe/Paris:20250419T170000
DTSTAMP:20260422T011408
CREATED:20250324T151936Z
LAST-MODIFIED:20250324T151936Z
UID:13785-1745071200-1745082000@www.ville-leportel.fr
SUMMARY:Fête de Pâques
DESCRIPTION:Le Jardin de Pâques\nSamedi 19 avril |  14h – 16h30\nParc de la Falaise (à côté de la cafet’ du parc) \n\nPour les petits Portelois de 3 à 12 ans \n\nInscriptions sur place (places limitées) \n\n Repli à la salle Yves Montand en cas de mauvais temps\nOrganisé par le service Temps de l’enfant.
URL:https://www.ville-leportel.fr/event/fete-de-paques/
ATTACH;FMTTYPE=image/jpeg:https://www.ville-leportel.fr/wp-content/uploads/2025/03/le-jardin-de-paques-2025-copie-scaled.jpg
END:VEVENT
END:VCALENDAR