BEGIN:VCALENDAR
VERSION:2.0
PRODID:-//Le Portel - ECPv6.15.18//NONSGML v1.0//EN
CALSCALE:GREGORIAN
METHOD:PUBLISH
X-WR-CALNAME:Le Portel
X-ORIGINAL-URL:https://www.ville-leportel.fr
X-WR-CALDESC:Évènements pour Le Portel
REFRESH-INTERVAL;VALUE=DURATION:PT1H
X-Robots-Tag:noindex
X-PUBLISHED-TTL:PT1H
BEGIN:VTIMEZONE
TZID:Europe/Paris
BEGIN:DAYLIGHT
TZOFFSETFROM:+0100
TZOFFSETTO:+0200
TZNAME:CEST
DTSTART:20240331T010000
END:DAYLIGHT
BEGIN:STANDARD
TZOFFSETFROM:+0200
TZOFFSETTO:+0100
TZNAME:CET
DTSTART:20241027T010000
END:STANDARD
BEGIN:DAYLIGHT
TZOFFSETFROM:+0100
TZOFFSETTO:+0200
TZNAME:CEST
DTSTART:20250330T010000
END:DAYLIGHT
BEGIN:STANDARD
TZOFFSETFROM:+0200
TZOFFSETTO:+0100
TZNAME:CET
DTSTART:20251026T010000
END:STANDARD
BEGIN:DAYLIGHT
TZOFFSETFROM:+0100
TZOFFSETTO:+0200
TZNAME:CEST
DTSTART:20260329T010000
END:DAYLIGHT
BEGIN:STANDARD
TZOFFSETFROM:+0200
TZOFFSETTO:+0100
TZNAME:CET
DTSTART:20261025T010000
END:STANDARD
END:VTIMEZONE
BEGIN:VEVENT
DTSTART;TZID=Europe/Paris:20250426T100000
DTEND;TZID=Europe/Paris:20250426T180000
DTSTAMP:20260421T223538
CREATED:20250324T153910Z
LAST-MODIFIED:20250324T153910Z
UID:13808-1745661600-1745690400@www.ville-leportel.fr
SUMMARY:Fête du 300 tonneau
DESCRIPTION:Fête du 300 tonneau \n\nSamedi 26 avril 2025 de 10H00 à 18H00\n\n\nsur le site du MUSEE ARGOS\n\n\nroute du CAP d’ALPRECH 62480 LE PORTEL\n\n\n \nVenez y découvrir de nombreuses animations et les nouveautés du Musée\n\n\nLes peintres de la mer\, La couture et les broderies porteloises\, La paléontologie\, La garde napoléonienne\, Le musée Argos\, Le simulateur de navigation\,……\n \n\n\nPETITE RESTAURATION A VOTRE DISPOSITION
URL:https://www.ville-leportel.fr/event/fete-du-300-tonneau/
END:VEVENT
END:VCALENDAR