BEGIN:VCALENDAR
VERSION:2.0
PRODID:-//Le Portel - ECPv6.15.18//NONSGML v1.0//EN
CALSCALE:GREGORIAN
METHOD:PUBLISH
X-WR-CALNAME:Le Portel
X-ORIGINAL-URL:https://www.ville-leportel.fr
X-WR-CALDESC:Évènements pour Le Portel
REFRESH-INTERVAL;VALUE=DURATION:PT1H
X-Robots-Tag:noindex
X-PUBLISHED-TTL:PT1H
BEGIN:VTIMEZONE
TZID:Europe/Paris
BEGIN:DAYLIGHT
TZOFFSETFROM:+0100
TZOFFSETTO:+0200
TZNAME:CEST
DTSTART:20210328T010000
END:DAYLIGHT
BEGIN:STANDARD
TZOFFSETFROM:+0200
TZOFFSETTO:+0100
TZNAME:CET
DTSTART:20211031T010000
END:STANDARD
BEGIN:DAYLIGHT
TZOFFSETFROM:+0100
TZOFFSETTO:+0200
TZNAME:CEST
DTSTART:20220327T010000
END:DAYLIGHT
BEGIN:STANDARD
TZOFFSETFROM:+0200
TZOFFSETTO:+0100
TZNAME:CET
DTSTART:20221030T010000
END:STANDARD
BEGIN:DAYLIGHT
TZOFFSETFROM:+0100
TZOFFSETTO:+0200
TZNAME:CEST
DTSTART:20230326T010000
END:DAYLIGHT
BEGIN:STANDARD
TZOFFSETFROM:+0200
TZOFFSETTO:+0100
TZNAME:CET
DTSTART:20231029T010000
END:STANDARD
END:VTIMEZONE
BEGIN:VEVENT
DTSTART;TZID=Europe/Paris:20221220T143000
DTEND;TZID=Europe/Paris:20221220T163000
DTSTAMP:20260425T164659
CREATED:20221130T084442Z
LAST-MODIFIED:20221130T084442Z
UID:9890-1671546600-1671553800@www.ville-leportel.fr
SUMMARY:Prévention "bien voir et bien vu"
DESCRIPTION:Chaque année\, des usagers vulnérables sont impliqués dans des accidents de la circulation à cause d’une mauvaise visibilité. Le développement des nouveaux engins de déplacement motorisés que sont les vélos électriques et trottinettes ainsi que le passage à l’heure d’hiver réduisant la visibilité augmentent fortement le risque d’accident. Ainsi\, la CAB a souhaité reconduire la campagne de prévention « bien voir et bien vu » en partenariat avec les communes et services de l’Etat. \nUne action de prévention aura lieu le mardi 20 décembre de 14h30 à 16h30 dans les locaux de la Police Municipale du Portel (cour de la Mairie). \nAprès un temps d’échanges\, un flyer des bonnes pratiques vous sera remis ainsi que des bandes de reflexite à poser sur votre vélo ou votre trottinette pour être visible des usagers de la route et circuler en toute sérénité !
URL:https://www.ville-leportel.fr/event/prevention-bien-voir-et-bien-vu/
END:VEVENT
END:VCALENDAR