BEGIN:VCALENDAR
VERSION:2.0
PRODID:-//Le Portel - ECPv6.15.18//NONSGML v1.0//EN
CALSCALE:GREGORIAN
METHOD:PUBLISH
X-WR-CALNAME:Le Portel
X-ORIGINAL-URL:https://www.ville-leportel.fr
X-WR-CALDESC:Évènements pour Le Portel
REFRESH-INTERVAL;VALUE=DURATION:PT1H
X-Robots-Tag:noindex
X-PUBLISHED-TTL:PT1H
BEGIN:VTIMEZONE
TZID:Europe/Paris
BEGIN:DAYLIGHT
TZOFFSETFROM:+0100
TZOFFSETTO:+0200
TZNAME:CEST
DTSTART:20240331T010000
END:DAYLIGHT
BEGIN:STANDARD
TZOFFSETFROM:+0200
TZOFFSETTO:+0100
TZNAME:CET
DTSTART:20241027T010000
END:STANDARD
BEGIN:DAYLIGHT
TZOFFSETFROM:+0100
TZOFFSETTO:+0200
TZNAME:CEST
DTSTART:20250330T010000
END:DAYLIGHT
BEGIN:STANDARD
TZOFFSETFROM:+0200
TZOFFSETTO:+0100
TZNAME:CET
DTSTART:20251026T010000
END:STANDARD
BEGIN:DAYLIGHT
TZOFFSETFROM:+0100
TZOFFSETTO:+0200
TZNAME:CEST
DTSTART:20260329T010000
END:DAYLIGHT
BEGIN:STANDARD
TZOFFSETFROM:+0200
TZOFFSETTO:+0100
TZNAME:CET
DTSTART:20261025T010000
END:STANDARD
END:VTIMEZONE
BEGIN:VEVENT
DTSTART;TZID=Europe/Paris:20250420T063000
DTEND;TZID=Europe/Paris:20250420T180000
DTSTAMP:20260421T221131
CREATED:20250324T152725Z
LAST-MODIFIED:20250324T152725Z
UID:13794-1745130600-1745172000@www.ville-leportel.fr
SUMMARY:Randonnée Cyclotouriste
DESCRIPTION:Rando cyclo « Sur les traces de Napoléon »\nOrganisée par l’Amicale Saint-Joseph – club vélo \nParcours cyclo :\n– 50km : 1€\n– 70km : 2€\n– 90km : 2€\n– 150 km : 5€\nNon FFCT : 4€ \nMarche : \n10km : gratuit \nRDV de 6h30 à 18h au centre St Joseph\, rue Msgr Haffreingue \nRenseignements au 06.08.99.23.96 ou 06.66.23.46.04
URL:https://www.ville-leportel.fr/event/randonnee-cyclotouriste/
ATTACH;FMTTYPE=image/jpeg:https://www.ville-leportel.fr/wp-content/uploads/2025/03/rando-napoleon.jpg
END:VEVENT
END:VCALENDAR