BEGIN:VCALENDAR
VERSION:2.0
PRODID:-//Le Portel - ECPv6.15.18//NONSGML v1.0//EN
CALSCALE:GREGORIAN
METHOD:PUBLISH
X-WR-CALNAME:Le Portel
X-ORIGINAL-URL:https://www.ville-leportel.fr
X-WR-CALDESC:Évènements pour Le Portel
REFRESH-INTERVAL;VALUE=DURATION:PT1H
X-Robots-Tag:noindex
X-PUBLISHED-TTL:PT1H
BEGIN:VTIMEZONE
TZID:Europe/Paris
BEGIN:DAYLIGHT
TZOFFSETFROM:+0100
TZOFFSETTO:+0200
TZNAME:CEST
DTSTART:20240331T010000
END:DAYLIGHT
BEGIN:STANDARD
TZOFFSETFROM:+0200
TZOFFSETTO:+0100
TZNAME:CET
DTSTART:20241027T010000
END:STANDARD
BEGIN:DAYLIGHT
TZOFFSETFROM:+0100
TZOFFSETTO:+0200
TZNAME:CEST
DTSTART:20250330T010000
END:DAYLIGHT
BEGIN:STANDARD
TZOFFSETFROM:+0200
TZOFFSETTO:+0100
TZNAME:CET
DTSTART:20251026T010000
END:STANDARD
BEGIN:DAYLIGHT
TZOFFSETFROM:+0100
TZOFFSETTO:+0200
TZNAME:CEST
DTSTART:20260329T010000
END:DAYLIGHT
BEGIN:STANDARD
TZOFFSETFROM:+0200
TZOFFSETTO:+0100
TZNAME:CET
DTSTART:20261025T010000
END:STANDARD
END:VTIMEZONE
BEGIN:VEVENT
DTSTART;TZID=Europe/Paris:20250405T190000
DTEND;TZID=Europe/Paris:20250405T233000
DTSTAMP:20260422T085434
CREATED:20250324T144649Z
LAST-MODIFIED:20250324T144649Z
UID:13775-1743879600-1743895800@www.ville-leportel.fr
SUMMARY:Saint Patrick
DESCRIPTION:Fête de la St Patrick \n\n\nHenriville fête la Saint Patrick \n\n Samedi 5 avril 19h – Salle Emile Libert au Chaudron\n\n\n Inscriptions à la maison de quartier Jean Pierre Maurouard\nLes lundis 24 et 31 mars et le vendredi 4 avril de 18h à 19h \n\n\n\n Tarifs : 18€/adulte et 9€/enfant\nRenseignements : 06 77 75 82 38
URL:https://www.ville-leportel.fr/event/saint-patrick/
ATTACH;FMTTYPE=image/jpeg:https://www.ville-leportel.fr/wp-content/uploads/2025/03/aff-st-patrick-henr-2025-copie-scaled.jpg
END:VEVENT
END:VCALENDAR