BEGIN:VCALENDAR
VERSION:2.0
PRODID:-//Le Portel - ECPv6.15.18//NONSGML v1.0//EN
CALSCALE:GREGORIAN
METHOD:PUBLISH
X-WR-CALNAME:Le Portel
X-ORIGINAL-URL:https://www.ville-leportel.fr
X-WR-CALDESC:Évènements pour Le Portel
REFRESH-INTERVAL;VALUE=DURATION:PT1H
X-Robots-Tag:noindex
X-PUBLISHED-TTL:PT1H
BEGIN:VTIMEZONE
TZID:Europe/Paris
BEGIN:DAYLIGHT
TZOFFSETFROM:+0100
TZOFFSETTO:+0200
TZNAME:CEST
DTSTART:20240331T010000
END:DAYLIGHT
BEGIN:STANDARD
TZOFFSETFROM:+0200
TZOFFSETTO:+0100
TZNAME:CET
DTSTART:20241027T010000
END:STANDARD
BEGIN:DAYLIGHT
TZOFFSETFROM:+0100
TZOFFSETTO:+0200
TZNAME:CEST
DTSTART:20250330T010000
END:DAYLIGHT
BEGIN:STANDARD
TZOFFSETFROM:+0200
TZOFFSETTO:+0100
TZNAME:CET
DTSTART:20251026T010000
END:STANDARD
BEGIN:DAYLIGHT
TZOFFSETFROM:+0100
TZOFFSETTO:+0200
TZNAME:CEST
DTSTART:20260329T010000
END:DAYLIGHT
BEGIN:STANDARD
TZOFFSETFROM:+0200
TZOFFSETTO:+0100
TZNAME:CET
DTSTART:20261025T010000
END:STANDARD
END:VTIMEZONE
BEGIN:VEVENT
DTSTART;TZID=Europe/Paris:20250426T090000
DTEND;TZID=Europe/Paris:20250426T190000
DTSTAMP:20260421T205430
CREATED:20250324T153707Z
LAST-MODIFIED:20250324T153707Z
UID:13805-1745658000-1745694000@www.ville-leportel.fr
SUMMARY:Tournoi de pétanque familial
DESCRIPTION:Tournoi de pétanque familial\nEn doublette\nAu boulodrome Guy Blais – Rue de Reims\, Le Portel \nSAmedi 26 avril dès 9h \nOuvert à tous (enfants dès 12 ans)\n6€ par personne (sandwich saucisse ou merguez offert) \nInscriptions et renseignements :\n– Vendredi 11 avril de 17h30 à 20h\nLes samedi 12 avril et 19 avril de 9h30 à 12h\n06.50.17.20.51 / 06.76.52.24.58
URL:https://www.ville-leportel.fr/event/tournoi-de-petanque-familial/
ATTACH;FMTTYPE=image/jpeg:https://www.ville-leportel.fr/wp-content/uploads/2025/03/coulee-verte-tournoi-petanque-26-avril-2025-copie-scaled.jpg
END:VEVENT
END:VCALENDAR