BEGIN:VCALENDAR
VERSION:2.0
PRODID:-//Le Portel - ECPv6.15.18//NONSGML v1.0//EN
CALSCALE:GREGORIAN
METHOD:PUBLISH
X-WR-CALNAME:Le Portel
X-ORIGINAL-URL:https://www.ville-leportel.fr
X-WR-CALDESC:Évènements pour Le Portel
REFRESH-INTERVAL;VALUE=DURATION:PT1H
X-Robots-Tag:noindex
X-PUBLISHED-TTL:PT1H
BEGIN:VTIMEZONE
TZID:Europe/Paris
BEGIN:DAYLIGHT
TZOFFSETFROM:+0100
TZOFFSETTO:+0200
TZNAME:CEST
DTSTART:20240331T010000
END:DAYLIGHT
BEGIN:STANDARD
TZOFFSETFROM:+0200
TZOFFSETTO:+0100
TZNAME:CET
DTSTART:20241027T010000
END:STANDARD
BEGIN:DAYLIGHT
TZOFFSETFROM:+0100
TZOFFSETTO:+0200
TZNAME:CEST
DTSTART:20250330T010000
END:DAYLIGHT
BEGIN:STANDARD
TZOFFSETFROM:+0200
TZOFFSETTO:+0100
TZNAME:CET
DTSTART:20251026T010000
END:STANDARD
BEGIN:DAYLIGHT
TZOFFSETFROM:+0100
TZOFFSETTO:+0200
TZNAME:CEST
DTSTART:20260329T010000
END:DAYLIGHT
BEGIN:STANDARD
TZOFFSETFROM:+0200
TZOFFSETTO:+0100
TZNAME:CET
DTSTART:20261025T010000
END:STANDARD
END:VTIMEZONE
BEGIN:VEVENT
DTSTART;TZID=Europe/Paris:20250503T100000
DTEND;TZID=Europe/Paris:20250503T120000
DTSTAMP:20260422T062039
CREATED:20250423T081322Z
LAST-MODIFIED:20250423T081322Z
UID:13897-1746266400-1746273600@www.ville-leportel.fr
SUMMARY:Troc plantes - Brocante des mains vertes
DESCRIPTION:Amis jardiniers\, curieux de nature ou passionnés de verdure… ce rendez-vous est fait pour vous !  \nVenez échanger plants\, graines\, boutures mais aussi trucs\, astuces et conseils dans une ambiance conviviale 100 % verte Un moment de partage ouvert à tous\, que vous ayez la main verte ou simplement envie de vous lancer ! \n Infos : 03 91 90 14 00 Gratuit et sans inscription
URL:https://www.ville-leportel.fr/event/troc-plantes-brocante-des-mains-vertes/
LOCATION:Médiathèque les jardins du savoir
ATTACH;FMTTYPE=image/jpeg:https://www.ville-leportel.fr/wp-content/uploads/2025/03/Troc-plantes-2025-copie-scaled.jpg
END:VEVENT
END:VCALENDAR