BEGIN:VCALENDAR
VERSION:2.0
PRODID:-//Le Portel - ECPv6.15.18//NONSGML v1.0//EN
CALSCALE:GREGORIAN
METHOD:PUBLISH
X-WR-CALNAME:Le Portel
X-ORIGINAL-URL:https://www.ville-leportel.fr
X-WR-CALDESC:Évènements pour Le Portel
REFRESH-INTERVAL;VALUE=DURATION:PT1H
X-Robots-Tag:noindex
X-PUBLISHED-TTL:PT1H
BEGIN:VTIMEZONE
TZID:Europe/Paris
BEGIN:DAYLIGHT
TZOFFSETFROM:+0100
TZOFFSETTO:+0200
TZNAME:CEST
DTSTART:20220327T010000
END:DAYLIGHT
BEGIN:STANDARD
TZOFFSETFROM:+0200
TZOFFSETTO:+0100
TZNAME:CET
DTSTART:20221030T010000
END:STANDARD
BEGIN:DAYLIGHT
TZOFFSETFROM:+0100
TZOFFSETTO:+0200
TZNAME:CEST
DTSTART:20230326T010000
END:DAYLIGHT
BEGIN:STANDARD
TZOFFSETFROM:+0200
TZOFFSETTO:+0100
TZNAME:CET
DTSTART:20231029T010000
END:STANDARD
BEGIN:DAYLIGHT
TZOFFSETFROM:+0100
TZOFFSETTO:+0200
TZNAME:CEST
DTSTART:20240331T010000
END:DAYLIGHT
BEGIN:STANDARD
TZOFFSETFROM:+0200
TZOFFSETTO:+0100
TZNAME:CET
DTSTART:20241027T010000
END:STANDARD
END:VTIMEZONE
BEGIN:VEVENT
DTSTART;TZID=Europe/Paris:20230624T110000
DTEND;TZID=Europe/Paris:20230624T190000
DTSTAMP:20260424T163806
CREATED:20230515T114523Z
LAST-MODIFIED:20230515T114523Z
UID:10722-1687604400-1687633200@www.ville-leportel.fr
SUMMARY:Un samedi sur l’herbe - Du cirque pour toute la famille
DESCRIPTION:De 11h à 19h au parc de la falaise.\nSpectacles : To be queen par la cie Lady cocktail\, Vlad le magicien Ukrainien\, ImproLocura par Agro le clown.\nDéambulations : Les papillons des Zincontournables\, le clown Bijou\, le clown Doudou.\nParcours de petites voitures américaines\, rodéo mécanique\, maquillage.\nRestauration sur place avec le Bouchon\, Le Portel anim’\, le food truck Lily Rose\, la cafet du parc\, Paddy’s tribu.\nGratuit\, ouvert à tous.\nRenseignements au 03 91 90 14 00.
URL:https://www.ville-leportel.fr/event/un-samedi-sur-lherbe-du-cirque-pour-toute-la-famille/
ATTACH;FMTTYPE=image/jpeg:https://www.ville-leportel.fr/wp-content/uploads/2023/05/289590306_7549048938502751_1315382642580524961_n.jpg
END:VEVENT
END:VCALENDAR