BEGIN:VCALENDAR
VERSION:2.0
PRODID:-//Le Portel - ECPv6.15.18//NONSGML v1.0//EN
CALSCALE:GREGORIAN
METHOD:PUBLISH
X-WR-CALNAME:Le Portel
X-ORIGINAL-URL:https://www.ville-leportel.fr
X-WR-CALDESC:Évènements pour Le Portel
REFRESH-INTERVAL;VALUE=DURATION:PT1H
X-Robots-Tag:noindex
X-PUBLISHED-TTL:PT1H
BEGIN:VTIMEZONE
TZID:Europe/Paris
BEGIN:DAYLIGHT
TZOFFSETFROM:+0100
TZOFFSETTO:+0200
TZNAME:CEST
DTSTART:20230326T010000
END:DAYLIGHT
BEGIN:STANDARD
TZOFFSETFROM:+0200
TZOFFSETTO:+0100
TZNAME:CET
DTSTART:20231029T010000
END:STANDARD
BEGIN:DAYLIGHT
TZOFFSETFROM:+0100
TZOFFSETTO:+0200
TZNAME:CEST
DTSTART:20240331T010000
END:DAYLIGHT
BEGIN:STANDARD
TZOFFSETFROM:+0200
TZOFFSETTO:+0100
TZNAME:CET
DTSTART:20241027T010000
END:STANDARD
BEGIN:DAYLIGHT
TZOFFSETFROM:+0100
TZOFFSETTO:+0200
TZNAME:CEST
DTSTART:20250330T010000
END:DAYLIGHT
BEGIN:STANDARD
TZOFFSETFROM:+0200
TZOFFSETTO:+0100
TZNAME:CET
DTSTART:20251026T010000
END:STANDARD
END:VTIMEZONE
BEGIN:VEVENT
DTSTART;TZID=Europe/Paris:20240418T140000
DTEND;TZID=Europe/Paris:20240418T170000
DTSTAMP:20260423T023210
CREATED:20230731T152308Z
LAST-MODIFIED:20240402T070810Z
UID:11301-1713448800-1713459600@www.ville-leportel.fr
SUMMARY:Visite guidée du Fort d’Alprech
DESCRIPTION:Visite guidée du Fort d’Alprech \nPar l’association Fort Cap d’Alprech \nDe 14h à 17h sans rendez-vous \n4€ par adulte\, 2€ de 8 à 18 ans \nPour les groupes\, un tarif préférentiel est prévu avec réservation obligatoire. \nRenseignements au 06 17 86 14 44 ou muriel.duval19@gmail.com
URL:https://www.ville-leportel.fr/event/visite-guidee-du-fort-dalprech-25/
ATTACH;FMTTYPE=image/jpeg:https://www.ville-leportel.fr/wp-content/uploads/2023/07/Z62_6518_DxO.jpg
END:VEVENT
END:VCALENDAR