BEGIN:VCALENDAR
VERSION:2.0
PRODID:-//Le Portel - ECPv6.15.18//NONSGML v1.0//EN
CALSCALE:GREGORIAN
METHOD:PUBLISH
X-WR-CALNAME:Le Portel
X-ORIGINAL-URL:https://www.ville-leportel.fr
X-WR-CALDESC:Évènements pour Le Portel
REFRESH-INTERVAL;VALUE=DURATION:PT1H
X-Robots-Tag:noindex
X-PUBLISHED-TTL:PT1H
BEGIN:VTIMEZONE
TZID:Europe/Paris
BEGIN:DAYLIGHT
TZOFFSETFROM:+0100
TZOFFSETTO:+0200
TZNAME:CEST
DTSTART:20250330T010000
END:DAYLIGHT
BEGIN:STANDARD
TZOFFSETFROM:+0200
TZOFFSETTO:+0100
TZNAME:CET
DTSTART:20251026T010000
END:STANDARD
BEGIN:DAYLIGHT
TZOFFSETFROM:+0100
TZOFFSETTO:+0200
TZNAME:CEST
DTSTART:20260329T010000
END:DAYLIGHT
BEGIN:STANDARD
TZOFFSETFROM:+0200
TZOFFSETTO:+0100
TZNAME:CET
DTSTART:20261025T010000
END:STANDARD
BEGIN:DAYLIGHT
TZOFFSETFROM:+0100
TZOFFSETTO:+0200
TZNAME:CEST
DTSTART:20270328T010000
END:DAYLIGHT
BEGIN:STANDARD
TZOFFSETFROM:+0200
TZOFFSETTO:+0100
TZNAME:CET
DTSTART:20271031T010000
END:STANDARD
END:VTIMEZONE
BEGIN:VEVENT
DTSTART;VALUE=DATE:20260501
DTEND;VALUE=DATE:20260518
DTSTAMP:20260422T045902
CREATED:20260416T142305Z
LAST-MODIFIED:20260416T142305Z
UID:16216-1777593600-1779062399@www.ville-leportel.fr
SUMMARY:Ducasse du Portel 2026
DESCRIPTION:Du 1er au 17 mai 2026\, la Place de l’Église se transformera en un espace festif pour le plus grand plaisir des petit·e·s et des grand·e·s. \n\nNe manquez pas les temps forts de cette édition : \n🎆 Feu d’artifice : Un spectacle pyrotechnique illuminera le ciel le mercredi 13 mai à 22h. \n🎡 Journée tarif réduit : Profitez des manèges à prix réduit le jeudi 14 mai. \n\nLa Ducasse du Portel\, c’est l’occasion idéale de passer des moments conviviaux en famille ou entre ami·e·s. Nous vous y attendons nombreuses et nombreux !
URL:https://www.ville-leportel.fr/event/ducasse-du-portel-2026/
ATTACH;FMTTYPE=image/jpeg:https://www.ville-leportel.fr/wp-content/uploads/2026/04/Ducasse-2026-copie-scaled.jpg
END:VEVENT
BEGIN:VEVENT
DTSTART;TZID=Europe/Paris:20260509T100000
DTEND;TZID=Europe/Paris:20260509T120000
DTSTAMP:20260422T045902
CREATED:20260409T102705Z
LAST-MODIFIED:20260409T102951Z
UID:16188-1778320800-1778328000@www.ville-leportel.fr
SUMMARY:PORTES OUVERTES : LES SERRES MUNICIPALES VOUS ACCUEILLENT !
DESCRIPTION:Venez découvrir les coulisses de la biodiversité au Portel. Une immersion ludique et pédagogique au cœur de la nature vous attend !\n\n\nAU PROGRAMME :\nExploration : Fonctionnement des serres et des cultures.\nÉcopâturage : Rencontre avec les animaux de la ferme.\nNature : Découverte du rucher et des actions de développement durable.
URL:https://www.ville-leportel.fr/event/portes-ouvertes-les-serres-municipales-vous-accueillent/
LOCATION:rue Jean-Paul Gachère
ATTACH;FMTTYPE=image/jpeg:https://www.ville-leportel.fr/wp-content/uploads/2026/04/PO-serres-municipales-2026-copie-scaled.jpg
END:VEVENT
END:VCALENDAR