BEGIN:VCALENDAR
VERSION:2.0
PRODID:-//Le Portel - ECPv6.15.18//NONSGML v1.0//EN
CALSCALE:GREGORIAN
METHOD:PUBLISH
X-WR-CALNAME:Le Portel
X-ORIGINAL-URL:https://www.ville-leportel.fr
X-WR-CALDESC:Évènements pour Le Portel
REFRESH-INTERVAL;VALUE=DURATION:PT1H
X-Robots-Tag:noindex
X-PUBLISHED-TTL:PT1H
BEGIN:VTIMEZONE
TZID:Europe/Paris
BEGIN:DAYLIGHT
TZOFFSETFROM:+0100
TZOFFSETTO:+0200
TZNAME:CEST
DTSTART:20250330T010000
END:DAYLIGHT
BEGIN:STANDARD
TZOFFSETFROM:+0200
TZOFFSETTO:+0100
TZNAME:CET
DTSTART:20251026T010000
END:STANDARD
BEGIN:DAYLIGHT
TZOFFSETFROM:+0100
TZOFFSETTO:+0200
TZNAME:CEST
DTSTART:20260329T010000
END:DAYLIGHT
BEGIN:STANDARD
TZOFFSETFROM:+0200
TZOFFSETTO:+0100
TZNAME:CET
DTSTART:20261025T010000
END:STANDARD
BEGIN:DAYLIGHT
TZOFFSETFROM:+0100
TZOFFSETTO:+0200
TZNAME:CEST
DTSTART:20270328T010000
END:DAYLIGHT
BEGIN:STANDARD
TZOFFSETFROM:+0200
TZOFFSETTO:+0100
TZNAME:CET
DTSTART:20271031T010000
END:STANDARD
END:VTIMEZONE
BEGIN:VEVENT
DTSTART;VALUE=DATE:20260418
DTEND;VALUE=DATE:20260429
DTSTAMP:20260422T021226
CREATED:20260416T120903Z
LAST-MODIFIED:20260416T120903Z
UID:16211-1776470400-1777420799@www.ville-leportel.fr
SUMMARY:Exposition Napoléon\, le Fort de l'Heurt et le camps de Boulogne
DESCRIPTION:Retrouvez l’exposition Napoléon\, le Fort de l’Heurt et le camps de Boulogne\, par Alain Evrard\, du 18 au 28 avril à la médiathèque.
URL:https://www.ville-leportel.fr/event/exposition-napoleon-le-fort-de-lheurt-et-le-camps-de-boulogne/
ATTACH;FMTTYPE=image/jpeg:https://www.ville-leportel.fr/wp-content/uploads/2026/04/5-D‚part-de-la-Grande-Arm‚e-du-camp-de-Boulogne-scaled.jpg
END:VEVENT
BEGIN:VEVENT
DTSTART;TZID=Europe/Paris:20260423T100000
DTEND;TZID=Europe/Paris:20260423T173000
DTSTAMP:20260422T021226
CREATED:20260407T083440Z
LAST-MODIFIED:20260407T083440Z
UID:16161-1776938400-1776965400@www.ville-leportel.fr
SUMMARY:Tournoi de street foot et basket 3x3
DESCRIPTION:Tournoi de street foot et basket 3×3\nDe 10h à 17h30 au city stade Louis Libert\, rue de Reims\nGratuit\, ouvert aix 12-17 ans\nDe nombreux lots à gagner \nInscriptions au CAJ rue de Reims – 03.91.21.01.48
URL:https://www.ville-leportel.fr/event/tournoi-de-street-foot-et-basket-3x3/
ATTACH;FMTTYPE=image/jpeg:https://www.ville-leportel.fr/wp-content/uploads/2026/04/Aff-streetfoot-basket@.jpg
END:VEVENT
BEGIN:VEVENT
DTSTART;TZID=Europe/Paris:20260424T090000
DTEND;TZID=Europe/Paris:20260424T120000
DTSTAMP:20260422T021226
CREATED:20260416T135040Z
LAST-MODIFIED:20260416T135040Z
UID:16214-1777021200-1777032000@www.ville-leportel.fr
SUMMARY:Permanence juridique
DESCRIPTION:Gratuite\, anonyme et confidentielle\, au Centre Social Espace Carnot. \nSur RDV auprès du CIDFF au 03 21 30 45 41.
URL:https://www.ville-leportel.fr/event/permanence-juridique-26/
ATTACH;FMTTYPE=image/jpeg:https://www.ville-leportel.fr/wp-content/uploads/2026/01/aff-permanences-juridiques-femmes-2026-copie-scaled.jpg
END:VEVENT
BEGIN:VEVENT
DTSTART;TZID=Europe/Paris:20260425T060000
DTEND;TZID=Europe/Paris:20260425T180000
DTSTAMP:20260422T021226
CREATED:20260407T083652Z
LAST-MODIFIED:20260407T083652Z
UID:16164-1777096800-1777140000@www.ville-leportel.fr
SUMMARY:Les 12 heures du parc de la falaise
DESCRIPTION:Les 12 heures du parc de la falaise \n\nRelevez le défi solidaire !\n\n\nLe 25 avril 2026\, préparez vos baskets pour une journée placée sous le signe du sport et de la générosité au Portel.  \n\n\n\nL’objectif ? Se rassembler autour d’un défi commun au profit de l’association La Coline des Sourires.\n Le concept : 12 heures de liberté totale\n\n\nPas de pression\, pas de chrono obligatoire\, juste le plaisir de bouger ensemble.\n\n\nQuand ? Le samedi 25 avril\, de 06h00 à 18h00.\nOù ? Départ au Skatepark du Parc de la Falaise\, Le Portel.\nLe parcours : Une boucle de 3 km à parcourir à votre rythme. \n\n\n\nL’événement est ouvert durant 12 heures consécutives : venez quand vous voulez\, repartez quand vous le souhaitez\, et effectuez le nombre de tours que vous désirez ! Seul·e\, en famille ou entre ami·es\, chaque pas compte.\n Un engagement pour une bonne cause\n\n\nSi l’accès au parcours pour marcher ou courir est entièrement gratuit\, l’essence même de cette journée est de soutenir activement La Coline des Sourires.\n\n\nVotre présence et votre énergie sont précieuses\, mais vos dons le sont tout autant pour aider l’association dans ses missions. Chaque contribution\, petite ou grande\, permet de faire avancer de beaux projets solidaires.\n Comment participer ou donner ?\n\n\nRendez-vous sur place le jour J pour fouler les sentiers de la falaise.\nScannez le QR Code présent sur l’affiche pour faire un don directement en ligne.\n\n\n 
URL:https://www.ville-leportel.fr/event/les-12-heures-du-parc-de-la-falaise/
ATTACH;FMTTYPE=image/jpeg:https://www.ville-leportel.fr/wp-content/uploads/2026/04/affiche-12-h-du-parc-copie-scaled.jpg
END:VEVENT
BEGIN:VEVENT
DTSTART;TZID=Europe/Paris:20260425T100000
DTEND;TZID=Europe/Paris:20260425T120000
DTSTAMP:20260422T021226
CREATED:20260225T104516Z
LAST-MODIFIED:20260407T083740Z
UID:15920-1777111200-1777118400@www.ville-leportel.fr
SUMMARY:Troc plantes
DESCRIPTION:🌿 Troc plantes : échangez et cultivez ensemble !\nAvis aux personnes passionnées de jardinage ! La Médiathèque « Les Jardins du Savoir » de Le Portel vous invite à ses matinées Troc Plantes. Que vous ayez la main verte ou que vous débutiez\, cet événement est l’occasion parfaite pour enrichir votre jardin ou votre balcon de manière conviviale et gratuite. \nAu programme :\n\n\nÉchanges : apportez vos boutures\, plants et graines\, et repartez avec de nouvelles variétés. \n\n\nPartage : profitez de conseils de jardinage et de discussions passionnées autour d’un café. \n\n\nC’est gratuit et ouvert à tout le monde ! Rendez-vous à la médiathèque\, au 5 avenue du Général San Martin.
URL:https://www.ville-leportel.fr/event/brocante-des-mains-vertes-5/
LOCATION:Médiathèque\, 5 avenue du Général San Martin\, le portel\, 62480\, France
ATTACH;FMTTYPE=image/jpeg:https://www.ville-leportel.fr/wp-content/uploads/2026/02/Troc-plantes-2026-copie-scaled.jpg
END:VEVENT
BEGIN:VEVENT
DTSTART;TZID=Europe/Paris:20260425T103000
DTEND;TZID=Europe/Paris:20260425T120000
DTSTAMP:20260422T021226
CREATED:20250611T145010Z
LAST-MODIFIED:20260407T084231Z
UID:14401-1777113000-1777118400@www.ville-leportel.fr
SUMMARY:Visite guidée de la ville
DESCRIPTION: \n\n\n\n\n\n\n\n\n\nVisite guidée de la ville avec Alain Evrard\, organisée par le Cercle Historique Portelois !\n\n\n Venez découvrir l’histoire fascinante de notre ville\, ses monuments emblématiques et son architecture. Une belle occasion d’en apprendre plus sur notre patrimoine local.\n\n\n Départ à 10h45 devant le Monument aux Morts dans le jardin public.\n Gratuit | Durée : environ 1h.\n\n\nUne expérience à ne pas manquer pour tous les passionnés d’histoire et de découvertes !
URL:https://www.ville-leportel.fr/event/visite-guidee-de-la-ville/
ATTACH;FMTTYPE=image/jpeg:https://www.ville-leportel.fr/wp-content/uploads/2025/06/visite-guidee.jpg
END:VEVENT
BEGIN:VEVENT
DTSTART;TZID=Europe/Paris:20260425T170000
DTEND;TZID=Europe/Paris:20260425T233000
DTSTAMP:20260422T021226
CREATED:20260407T084025Z
LAST-MODIFIED:20260407T084025Z
UID:16169-1777136400-1777159800@www.ville-leportel.fr
SUMMARY:Hexagone MMA
DESCRIPTION:ÉVÉNEMENT : Le MMA de haut niveau au Chaudron ! \n\n\n\nHexagone MMA Series au Chaudron \n\n\n\n Date : Samedi 25 avril 2026\n Lieu : Le Chaudron\, Le Portel\n Billetterie : https://feverup.com/m/499799/seating?date=2026-04-25&time=19:00
URL:https://www.ville-leportel.fr/event/hexagone-mma-2/
ATTACH;FMTTYPE=image/jpeg:https://www.ville-leportel.fr/wp-content/uploads/2026/04/Generic-Poster-2m2-echelle-1-5-qr-code-scaled.jpg
END:VEVENT
BEGIN:VEVENT
DTSTART;VALUE=DATE:20260426
DTEND;VALUE=DATE:20260427
DTSTAMP:20260422T021226
CREATED:20250324T154043Z
LAST-MODIFIED:20260407T084140Z
UID:13810-1777161600-1777247999@www.ville-leportel.fr
SUMMARY:Braderie Place de l'Eglise
DESCRIPTION:Braderie Place de l’Eglise\nDimanche 26 avril \nOrganisée par l’UCALP \nRenseignements et inscriptions auprès de Côté Mer au 09.81.35.29.33 
URL:https://www.ville-leportel.fr/event/braderie-place-de-leglise-3/
ATTACH;FMTTYPE=image/jpeg:https://www.ville-leportel.fr/wp-content/uploads/2025/03/affichebraderieavril-scaled.jpg
END:VEVENT
BEGIN:VEVENT
DTSTART;TZID=Europe/Paris:20260426T093000
DTEND;TZID=Europe/Paris:20260426T160000
DTSTAMP:20260422T021226
CREATED:20260403T154106Z
LAST-MODIFIED:20260403T154106Z
UID:16139-1777195800-1777219200@www.ville-leportel.fr
SUMMARY:Workshop de Danse avec Flower Dance
DESCRIPTION:L’association Flower Dance organise une journée exceptionnelle de workshops de danse le dimanche 26 avril 2026 à la Salle Philippe Noiret au Portel. Une occasion unique de découvrir ou d’approfondir vos connaissances en salsa\, paso doble et jive\, encadrés par des professeurs expérimenté·es. \nInformations pratiques \n\nDate : Dimanche 26 avril 2026\nLieu : Salle Philippe Noiret\, 62480 Le Portel\nPublic : À partir de 8 ans\nRéservations : Obligatoires via Hello Asso\n\nProgramme de la journée \n\n9h30 – 11h00 : Salsa avec Emmanuelle Berne\n11h30 – 13h00 : Paso Doble avec Yann-Alrick Mortreuil\n14h30 – 16h00 : Jive avec Yann Alrick Mortreuil\n\nTarifs \n\n1 cours : 30 €\n2 cours : 57 €\n3 cours : 70 €\n\nNe manquez pas cette opportunité de danser et de vous amuser dans une ambiance conviviale ! Pour plus d’informations\, contactez l’association Flower Dance.
URL:https://www.ville-leportel.fr/event/workshop-de-danse-avec-flower-dance/
ATTACH;FMTTYPE=image/jpeg:https://www.ville-leportel.fr/wp-content/uploads/2026/04/7531.jpg
END:VEVENT
BEGIN:VEVENT
DTSTART;TZID=Europe/Paris:20260426T110000
DTEND;TZID=Europe/Paris:20260426T120000
DTSTAMP:20260422T021226
CREATED:20240402T072143Z
LAST-MODIFIED:20260407T084439Z
UID:12385-1777201200-1777204800@www.ville-leportel.fr
SUMMARY:Journée Nationale du Souvenir des Victimes et des Héros de la Déportation
DESCRIPTION:Journée Nationale du Souvenir des Victimes et des Héros de la Déportation\nCérémonie à 11h au Monument aux morts
URL:https://www.ville-leportel.fr/event/journee-nationale-du-souvenir-des-victimes-et-des-heros-de-la-deportation-2/
END:VEVENT
BEGIN:VEVENT
DTSTART;TZID=Europe/Paris:20260426T150000
DTEND;TZID=Europe/Paris:20260426T170000
DTSTAMP:20260422T021226
CREATED:20260407T084647Z
LAST-MODIFIED:20260407T084647Z
UID:16175-1777215600-1777222800@www.ville-leportel.fr
SUMMARY:Concert de la Musicale Porteloise
DESCRIPTION:Concert latino\nFiesta en musique \nVoyagez au coeur des rythmes d’amérique latine avec un concert festif entre samba\, tango\, et musiques populaires latines \nDimanche 26 avril à 15h\nSalle Yves Montand\nEntrée gratuite
URL:https://www.ville-leportel.fr/event/concert-de-la-musicale-porteloise-4/
ATTACH;FMTTYPE=image/jpeg:https://www.ville-leportel.fr/wp-content/uploads/2026/04/260426-Concert-latino-V2-scaled.jpg
END:VEVENT
END:VCALENDAR